BEGIN:VCALENDAR
VERSION:2.0
PRODID:-//Premier Equestrian Club - ECPv6.15.14//NONSGML v1.0//EN
CALSCALE:GREGORIAN
METHOD:PUBLISH
X-ORIGINAL-URL:https://premierequestrianclub.co.za
X-WR-CALDESC:Events for Premier Equestrian Club
REFRESH-INTERVAL;VALUE=DURATION:PT1H
X-Robots-Tag:noindex
X-PUBLISHED-TTL:PT1H
BEGIN:VTIMEZONE
TZID:Africa/Johannesburg
BEGIN:STANDARD
TZOFFSETFROM:+0200
TZOFFSETTO:+0200
TZNAME:SAST
DTSTART:20250101T000000
END:STANDARD
END:VTIMEZONE
BEGIN:VEVENT
DTSTART;VALUE=DATE:20260314
DTEND;VALUE=DATE:20260315
DTSTAMP:20260422T015537
CREATED:20260126T115619Z
LAST-MODIFIED:20260126T115931Z
UID:4589-1773446400-1773532799@premierequestrianclub.co.za
SUMMARY:CLARAWI
DESCRIPTION:CLARAWI \nWillem Prinsloo Agricultural Museum \nDistance: 120Km\nLeg 1: 40Km\nLeg 2: 40Km\nLeg 3: 22Km\nLeg:4 18Km \nHandicap: 4.84\nQualifying Time: 6:5935
URL:https://premierequestrianclub.co.za/event/willem-prinsloo-2/
LOCATION:Willem Prinsloo Museum\, R104 Old Bronkhorstspruit Road\, Rayton\, Cullinan\, Cullinan\, Gauteng\, 1000
END:VEVENT
END:VCALENDAR